BEGIN:VCALENDAR
VERSION:2.0
PRODID:-//Future Moves - ECPv6.15.14//NONSGML v1.0//EN
CALSCALE:GREGORIAN
METHOD:PUBLISH
X-WR-CALNAME:Future Moves
X-ORIGINAL-URL:https://future-moves.nl
X-WR-CALDESC:Evenementen voor Future Moves
REFRESH-INTERVAL;VALUE=DURATION:PT1H
X-Robots-Tag:noindex
X-PUBLISHED-TTL:PT1H
BEGIN:VTIMEZONE
TZID:Europe/Amsterdam
BEGIN:DAYLIGHT
TZOFFSETFROM:+0100
TZOFFSETTO:+0200
TZNAME:CEST
DTSTART:20240331T010000
END:DAYLIGHT
BEGIN:STANDARD
TZOFFSETFROM:+0200
TZOFFSETTO:+0100
TZNAME:CET
DTSTART:20241027T010000
END:STANDARD
BEGIN:DAYLIGHT
TZOFFSETFROM:+0100
TZOFFSETTO:+0200
TZNAME:CEST
DTSTART:20250330T010000
END:DAYLIGHT
BEGIN:STANDARD
TZOFFSETFROM:+0200
TZOFFSETTO:+0100
TZNAME:CET
DTSTART:20251026T010000
END:STANDARD
BEGIN:DAYLIGHT
TZOFFSETFROM:+0100
TZOFFSETTO:+0200
TZNAME:CEST
DTSTART:20260329T010000
END:DAYLIGHT
BEGIN:STANDARD
TZOFFSETFROM:+0200
TZOFFSETTO:+0100
TZNAME:CET
DTSTART:20261025T010000
END:STANDARD
END:VTIMEZONE
BEGIN:VEVENT
DTSTART;TZID=Europe/Amsterdam:20251204T190000
DTEND;TZID=Europe/Amsterdam:20251204T210000
DTSTAMP:20260420T180713
CREATED:20251130T001303Z
LAST-MODIFIED:20251209T090728Z
UID:24723-1764874800-1764882000@future-moves.nl
SUMMARY:Workshop succes mindset door Lionmindset coaching
DESCRIPTION:Wat als 2026 niet draait om harder werken\, maar om anders te denken? \nOp donderdag 4 december geeft onze partner @strategyinaction de workshop Succes Mindset. \nStartwell\, Amsterdam Zuidoost (19:00–21:00) \nNa deze workshop ga je naar huis met:\n• Een helder overzicht van wat je in 2025 hebt bereikt\, inclusief successen die je misschien over het hoofd zag\n• Een duidelijke focus voor 2026: wat je wilt\, waar je naartoe werkt en wat je loslaat\n• Praktische tools om meer vanuit rust en richting te werken in plaats van vanuit druk\n• Een sterkere succes mindset waarmee je bewust en krachtig kunt groeien
URL:https://future-moves.nl/event/workshop-succes-mindset-door-lionmindset-coaching/
LOCATION:Future Moves HQ\, Laarderhoogtweg 18\, 1101 EA Amsterdam (2e etage links)\, Amsterdam\, Noord Holland\, Netherlands
ATTACH;FMTTYPE=image/jpeg:https://future-moves.nl/wp-content/uploads/2025/11/WhatsApp-Image-2025-11-30-at-01.10.12.jpeg
END:VEVENT
END:VCALENDAR