BEGIN:VCALENDAR
VERSION:2.0
PRODID:-//Future Moves - ECPv6.15.14//NONSGML v1.0//EN
CALSCALE:GREGORIAN
METHOD:PUBLISH
X-WR-CALNAME:Future Moves
X-ORIGINAL-URL:https://future-moves.nl
X-WR-CALDESC:Evenementen voor Future Moves
REFRESH-INTERVAL;VALUE=DURATION:PT1H
X-Robots-Tag:noindex
X-PUBLISHED-TTL:PT1H
BEGIN:VTIMEZONE
TZID:Europe/Amsterdam
BEGIN:DAYLIGHT
TZOFFSETFROM:+0100
TZOFFSETTO:+0200
TZNAME:CEST
DTSTART:20250330T010000
END:DAYLIGHT
BEGIN:STANDARD
TZOFFSETFROM:+0200
TZOFFSETTO:+0100
TZNAME:CET
DTSTART:20251026T010000
END:STANDARD
BEGIN:DAYLIGHT
TZOFFSETFROM:+0100
TZOFFSETTO:+0200
TZNAME:CEST
DTSTART:20260329T010000
END:DAYLIGHT
BEGIN:STANDARD
TZOFFSETFROM:+0200
TZOFFSETTO:+0100
TZNAME:CET
DTSTART:20261025T010000
END:STANDARD
BEGIN:DAYLIGHT
TZOFFSETFROM:+0100
TZOFFSETTO:+0200
TZNAME:CEST
DTSTART:20270328T010000
END:DAYLIGHT
BEGIN:STANDARD
TZOFFSETFROM:+0200
TZOFFSETTO:+0100
TZNAME:CET
DTSTART:20271031T010000
END:STANDARD
END:VTIMEZONE
BEGIN:VEVENT
DTSTART;TZID=Europe/Amsterdam:20260129T193000
DTEND;TZID=Europe/Amsterdam:20260129T210000
DTSTAMP:20260420T151326
CREATED:20260119T151631Z
LAST-MODIFIED:20260119T181857Z
UID:24933-1769715000-1769720400@future-moves.nl
SUMMARY:Workshop Identity Shift door Strategy in Action
DESCRIPTION:Op donderdag 29 januari organiseert Strategy in Action in Jongerencentrum Anansi in Amsterdam Zuidoost tussen 19:30–21:00 de workshop; The Identity Shift. \nLeer hoe je keuzes maakt om jezelf én je onderneming naar een nieuw level te dragen. \nIn deze workshop krijg je inzicht in de verschillende ondernemersstijlen en types waarin mensen vast kunnen blijven zitten. Je leert waarom die je groei blokkeren en hoe je shift naar een versie van jezelf die keuzes maakt vanuit rust\, vertrouwen en eigenaarschap. \nNa deze workshop ga je naar huis met: \n•⁠ ⁠Inzicht in jouw huidige ondernemersstijl\n•⁠ ⁠Helderheid over welke keuzes jouw volgende level vraagt\n•⁠ ⁠Meer rust\, focus en richting in hoe je onderneemt en jouw leven leidt \nDeze workshop is voor wie voelt: ik wil groeien\, maar wel op een manier die voor mij goed voelt. \nDisclaimer: Deze workshop wordt verzorgd door Terence Koswal & Chantay Carter van Strategy in Action. Future Moves faciliteert hierin en is niet inhoudelijk verantwoordelijk.
URL:https://future-moves.nl/event/workshop-identity-shift-door-strategy-in-action/
LOCATION:Jongerencentrum Anansi\, Daalwijkdreef 11\, Amsterdam\, Noord Holland\, 1102RN\, Netherlands
ATTACH;FMTTYPE=image/jpeg:https://future-moves.nl/wp-content/uploads/2026/01/SIA.jpeg
END:VEVENT
END:VCALENDAR