BEGIN:VCALENDAR
VERSION:2.0
PRODID:-//Future Moves - ECPv6.15.14//NONSGML v1.0//EN
CALSCALE:GREGORIAN
METHOD:PUBLISH
X-WR-CALNAME:Future Moves
X-ORIGINAL-URL:https://future-moves.nl
X-WR-CALDESC:Evenementen voor Future Moves
REFRESH-INTERVAL;VALUE=DURATION:PT1H
X-Robots-Tag:noindex
X-PUBLISHED-TTL:PT1H
BEGIN:VTIMEZONE
TZID:Europe/Amsterdam
BEGIN:DAYLIGHT
TZOFFSETFROM:+0100
TZOFFSETTO:+0200
TZNAME:CEST
DTSTART:20250330T010000
END:DAYLIGHT
BEGIN:STANDARD
TZOFFSETFROM:+0200
TZOFFSETTO:+0100
TZNAME:CET
DTSTART:20251026T010000
END:STANDARD
BEGIN:DAYLIGHT
TZOFFSETFROM:+0100
TZOFFSETTO:+0200
TZNAME:CEST
DTSTART:20260329T010000
END:DAYLIGHT
BEGIN:STANDARD
TZOFFSETFROM:+0200
TZOFFSETTO:+0100
TZNAME:CET
DTSTART:20261025T010000
END:STANDARD
BEGIN:DAYLIGHT
TZOFFSETFROM:+0100
TZOFFSETTO:+0200
TZNAME:CEST
DTSTART:20270328T010000
END:DAYLIGHT
BEGIN:STANDARD
TZOFFSETFROM:+0200
TZOFFSETTO:+0100
TZNAME:CET
DTSTART:20271031T010000
END:STANDARD
END:VTIMEZONE
BEGIN:VEVENT
DTSTART;TZID=Europe/Amsterdam:20260127T190000
DTEND;TZID=Europe/Amsterdam:20260127T210000
DTSTAMP:20260420T152648
CREATED:20260119T150400Z
LAST-MODIFIED:20260119T181943Z
UID:24922-1769540400-1769547600@future-moves.nl
SUMMARY:Workshop Financiële bewustwoording door Kingsultancy
DESCRIPTION:Op dinsdag 27 januari organiseert Kingsultancy de workshop; Financiële bewustwoording en ga je op een toegankelijke manier aan de slag met je geld en je toekomst. Je krijgt inzicht in je financiën\, ontdekt dat doelen zoals een huis kopen haalbaarder zijn dan je denkt en leert hoe je valkuilen voorkomt. Met praktische tips over budgetteren\, sparen en slimme keuzes stel je concrete doelen voor jezelf op en ga je naar huis met duidelijke stappen om direct mee te starten. \nDisclaimer: Deze workshop wordt verzorgd door Samuel Kingsley van Kingsultancy. Future Moves faciliteert hierin en is niet inhoudelijk verantwoordelijk.
URL:https://future-moves.nl/event/workshop-financiele-bewustwoording-door-kingsultancy/
LOCATION:Jongerencentrum Youngin\, Mijehof 298\, Amsterdam\, Noord Holland\, 1106\, Netherlands
ATTACH;FMTTYPE=image/jpeg:https://future-moves.nl/wp-content/uploads/2026/01/fm-flyer-4.jpg
END:VEVENT
END:VCALENDAR