BEGIN:VCALENDAR
VERSION:2.0
PRODID:-//Future Moves - ECPv6.15.14//NONSGML v1.0//EN
CALSCALE:GREGORIAN
METHOD:PUBLISH
X-WR-CALNAME:Future Moves
X-ORIGINAL-URL:https://future-moves.nl
X-WR-CALDESC:Evenementen voor Future Moves
REFRESH-INTERVAL;VALUE=DURATION:PT1H
X-Robots-Tag:noindex
X-PUBLISHED-TTL:PT1H
BEGIN:VTIMEZONE
TZID:Europe/Amsterdam
BEGIN:DAYLIGHT
TZOFFSETFROM:+0100
TZOFFSETTO:+0200
TZNAME:CEST
DTSTART:20240331T010000
END:DAYLIGHT
BEGIN:STANDARD
TZOFFSETFROM:+0200
TZOFFSETTO:+0100
TZNAME:CET
DTSTART:20241027T010000
END:STANDARD
BEGIN:DAYLIGHT
TZOFFSETFROM:+0100
TZOFFSETTO:+0200
TZNAME:CEST
DTSTART:20250330T010000
END:DAYLIGHT
BEGIN:STANDARD
TZOFFSETFROM:+0200
TZOFFSETTO:+0100
TZNAME:CET
DTSTART:20251026T010000
END:STANDARD
BEGIN:DAYLIGHT
TZOFFSETFROM:+0100
TZOFFSETTO:+0200
TZNAME:CEST
DTSTART:20260329T010000
END:DAYLIGHT
BEGIN:STANDARD
TZOFFSETFROM:+0200
TZOFFSETTO:+0100
TZNAME:CET
DTSTART:20261025T010000
END:STANDARD
END:VTIMEZONE
BEGIN:VEVENT
DTSTART;TZID=Europe/Amsterdam:20251223T150000
DTEND;TZID=Europe/Amsterdam:20251223T220000
DTSTAMP:20260420T164336
CREATED:20251224T142139Z
LAST-MODIFIED:20260119T165009Z
UID:24836-1766502000-1766527200@future-moves.nl
SUMMARY:Future Moves Christmas Gamehall
DESCRIPTION:Future Moves Christmas Gamehall was een laagdrempelige kerst get-together voor jongeren\, met klassieke bordspellen zoals Vier op een Rij\, Mens Erger Je Niet en Uno\, aangevuld met poffertjes met unieke kersttoppings en muziek voor extra gezelligheid. Het event bood jongeren die nog niet bekend waren met Future Moves de kans om in een ontspannen en warme sfeer kennis te maken met onze community en te ervaren waar Future Moves voor staat.
URL:https://future-moves.nl/event/future-moves-christmas-gamehall/
LOCATION:Future Moves pop hub locatie\, Kinkerstraat 155\, Amsterdam\, 1053DN\, Netherlands
ATTACH;FMTTYPE=image/jpeg:https://future-moves.nl/wp-content/uploads/2025/12/WhatsApp-Image-2025-12-24-at-11.10.54.jpeg
END:VEVENT
END:VCALENDAR