BEGIN:VCALENDAR
VERSION:2.0
PRODID:-//Future Moves - ECPv6.15.14//NONSGML v1.0//EN
CALSCALE:GREGORIAN
METHOD:PUBLISH
X-WR-CALNAME:Future Moves
X-ORIGINAL-URL:https://future-moves.nl
X-WR-CALDESC:Evenementen voor Future Moves
REFRESH-INTERVAL;VALUE=DURATION:PT1H
X-Robots-Tag:noindex
X-PUBLISHED-TTL:PT1H
BEGIN:VTIMEZONE
TZID:Europe/Amsterdam
BEGIN:DAYLIGHT
TZOFFSETFROM:+0100
TZOFFSETTO:+0200
TZNAME:CEST
DTSTART:20240331T010000
END:DAYLIGHT
BEGIN:STANDARD
TZOFFSETFROM:+0200
TZOFFSETTO:+0100
TZNAME:CET
DTSTART:20241027T010000
END:STANDARD
BEGIN:DAYLIGHT
TZOFFSETFROM:+0100
TZOFFSETTO:+0200
TZNAME:CEST
DTSTART:20250330T010000
END:DAYLIGHT
BEGIN:STANDARD
TZOFFSETFROM:+0200
TZOFFSETTO:+0100
TZNAME:CET
DTSTART:20251026T010000
END:STANDARD
BEGIN:DAYLIGHT
TZOFFSETFROM:+0100
TZOFFSETTO:+0200
TZNAME:CEST
DTSTART:20260329T010000
END:DAYLIGHT
BEGIN:STANDARD
TZOFFSETFROM:+0200
TZOFFSETTO:+0100
TZNAME:CET
DTSTART:20261025T010000
END:STANDARD
END:VTIMEZONE
BEGIN:VEVENT
DTSTART;TZID=Europe/Amsterdam:20251016T200000
DTEND;TZID=Europe/Amsterdam:20251016T220000
DTSTAMP:20260420T164531
CREATED:20260119T182230Z
LAST-MODIFIED:20260119T190202Z
UID:24947-1760644800-1760652000@future-moves.nl
SUMMARY:Community Event | Disco Bowlen
DESCRIPTION:  \nDisco Bowlen was het eerste fysieke community-event van Future Moves en vond plaats op 16 oktober bij Knijn Bowling\, direct na een online introductiewebinar over de organisatie. Twintig jongeren tussen de 18 en 28 jaar\, zowel binnen als buiten de Future Moves-community\, deden mee in een bewust laagdrempelige en informele setting.​ \nTijdens het event stond samen disco bowlen centraal\, met veel ruimte voor ontmoeting\, gezellige gesprekken en het leggen van nieuwe contacten tussen jongeren onderling en met Future Moves. De overgang van het webinar naar het bowlen verliep soepel en de ontspannen sfeer nodigde uit tot spontaan contact en verbinding.​ \nDeelnemers waardeerden vooral de gezelligheid\, de informele sfeer en de mogelijkheid om Future Moves niet alleen online\, maar ook persoonlijk beter te leren kennen. In de feedback gaven jongeren aan graag vaker dit soort sociale bijeenkomsten te willen\, wat onderstreept dat informele community-events een waardevolle aanvulling zijn op het inhoudelijke programma van Future Moves.​ \n        \n 
URL:https://future-moves.nl/event/community-event-disco-bowlen/
ATTACH;FMTTYPE=image/jpeg:https://future-moves.nl/wp-content/uploads/2026/01/9A6A4597.jpg
END:VEVENT
END:VCALENDAR